BEGIN:VCALENDAR
VERSION:2.0
PRODID:-//www.thearcofsomerset.org//NONSGML kigkonsult.se iCalcreator 2.30.
 10//
CALSCALE:GREGORIAN
METHOD:PUBLISH
UID:34be128b-7f5a-4310-bca5-f008a25c8165
X-WR-CALDESC:
X-WR-RELCALID:be117aeecf2ba14bbf9960878379d500
X-WR-TIMEZONE:America/New_York
BEGIN:VTIMEZONE
TZID:America/New_York
BEGIN:STANDARD
TZNAME:EST
DTSTART:20201101T020000
TZOFFSETFROM:-0400
TZOFFSETTO:-0500
RDATE:20211107T020000
RDATE:20221106T020000
END:STANDARD
BEGIN:DAYLIGHT
TZNAME:EDT
DTSTART:20210314T020000
TZOFFSETFROM:-0500
TZOFFSETTO:-0400
RDATE:20220313T020000
END:DAYLIGHT
END:VTIMEZONE
BEGIN:VEVENT
UID:fbe5815f-e7a3-438f-a6de-d20ce96f1943
DTSTAMP:20260425T224006Z
DESCRIPTION:
DTSTART;TZID=America/New_York:20210511T150000
DTEND;TZID=America/New_York:20210511T153000
LOCATION:
SUMMARY:“Hot TopiX” –  “Look and Find  Nature Quest”
END:VEVENT
END:VCALENDAR
