BEGIN:VCALENDAR
VERSION:2.0
PRODID:-//www.thearcofsomerset.org//NONSGML kigkonsult.se iCalcreator 2.30.
 10//
CALSCALE:GREGORIAN
METHOD:PUBLISH
UID:3fdf2951-6766-4cd1-97a5-5f8ecfa9ebfd
X-WR-CALDESC:
X-WR-RELCALID:5fe05481e2c5b72e42c6088e14ea7db7
X-WR-TIMEZONE:America/New_York
BEGIN:VTIMEZONE
TZID:America/New_York
BEGIN:STANDARD
TZNAME:EST
DTSTART:20201101T020000
TZOFFSETFROM:-0400
TZOFFSETTO:-0500
RDATE:20211107T020000
RDATE:20221106T020000
END:STANDARD
BEGIN:DAYLIGHT
TZNAME:EDT
DTSTART:20210314T020000
TZOFFSETFROM:-0500
TZOFFSETTO:-0400
RDATE:20220313T020000
END:DAYLIGHT
END:VTIMEZONE
BEGIN:VEVENT
UID:79675075-527f-44e5-9df1-455abb6f713c
DTSTAMP:20260425T223822Z
DESCRIPTION:
DTSTART;TZID=America/New_York:20210511T130000
DTEND;TZID=America/New_York:20210511T133000
LOCATION:
SUMMARY:RHGH Literacy class – all welcome!
END:VEVENT
END:VCALENDAR
