BEGIN:VCALENDAR
VERSION:2.0
PRODID:-//www.thearcofsomerset.org//NONSGML kigkonsult.se iCalcreator 2.30.
 10//
CALSCALE:GREGORIAN
METHOD:PUBLISH
UID:158b15b1-a34b-4567-803f-7d305217235d
X-WR-CALDESC:
X-WR-RELCALID:27cee12e77edc4d418918a800b0e0164
X-WR-TIMEZONE:America/New_York
BEGIN:VTIMEZONE
TZID:America/New_York
BEGIN:STANDARD
TZNAME:EST
DTSTART:20201101T020000
TZOFFSETFROM:-0400
TZOFFSETTO:-0500
RDATE:20211107T020000
RDATE:20221106T020000
END:STANDARD
BEGIN:DAYLIGHT
TZNAME:EDT
DTSTART:20210314T020000
TZOFFSETFROM:-0500
TZOFFSETTO:-0400
RDATE:20220313T020000
END:DAYLIGHT
END:VTIMEZONE
BEGIN:VEVENT
UID:b82e6f64-1b04-47f8-99c3-726701f2b767
DTSTAMP:20260425T223903Z
DESCRIPTION:
DTSTART;TZID=America/New_York:20210512T111500
DTEND;TZID=America/New_York:20210512T114500
LOCATION:
SUMMARY:11:15-11:45: SGH Literacy class – all welcome!
END:VEVENT
END:VCALENDAR
