BEGIN:VCALENDAR
VERSION:2.0
PRODID:-//www.thearcofsomerset.org//NONSGML kigkonsult.se iCalcreator 2.30.
 10//
CALSCALE:GREGORIAN
METHOD:PUBLISH
UID:0049ce1d-b348-4a74-a81c-fd24cba4c306
X-WR-CALDESC:
X-WR-RELCALID:1c99af9dd080371b9d7ad4b6ca95dbe3
X-WR-TIMEZONE:America/New_York
BEGIN:VTIMEZONE
TZID:America/New_York
BEGIN:STANDARD
TZNAME:EST
DTSTART:20201101T020000
TZOFFSETFROM:-0400
TZOFFSETTO:-0500
RDATE:20211107T020000
RDATE:20221106T020000
END:STANDARD
BEGIN:DAYLIGHT
TZNAME:EDT
DTSTART:20210314T020000
TZOFFSETFROM:-0500
TZOFFSETTO:-0400
RDATE:20220313T020000
END:DAYLIGHT
END:VTIMEZONE
BEGIN:VEVENT
UID:e410141c-4af1-4e8b-84ea-efc49d37906c
DTSTAMP:20260425T223720Z
DESCRIPTION:
DTSTART;TZID=America/New_York:20210513T100000
DTEND;TZID=America/New_York:20210513T103000
LOCATION:
SUMMARY:Literacy class (Ardsley) –  everyone welcome!
END:VEVENT
END:VCALENDAR
