BEGIN:VCALENDAR
VERSION:2.0
PRODID:-//www.thearcofsomerset.org//NONSGML kigkonsult.se iCalcreator 2.30.
 10//
CALSCALE:GREGORIAN
METHOD:PUBLISH
UID:afb3f7d4-1781-4399-8371-ec929a681d32
X-WR-CALDESC:
X-WR-RELCALID:81e41641d9121680affd18fd1710c137
X-WR-TIMEZONE:America/New_York
BEGIN:VTIMEZONE
TZID:America/New_York
BEGIN:STANDARD
TZNAME:EST
DTSTART:20201101T020000
TZOFFSETFROM:-0400
TZOFFSETTO:-0500
RDATE:20211107T020000
RDATE:20221106T020000
END:STANDARD
BEGIN:DAYLIGHT
TZNAME:EDT
DTSTART:20210314T020000
TZOFFSETFROM:-0500
TZOFFSETTO:-0400
RDATE:20220313T020000
END:DAYLIGHT
END:VTIMEZONE
BEGIN:VEVENT
UID:91513a12-0640-43ab-9b75-46c06c85d0e3
DTSTAMP:20260425T224006Z
DESCRIPTION:
DTSTART;TZID=America/New_York:20210513T130000
DTEND;TZID=America/New_York:20210513T133000
LOCATION:
SUMMARY:1:00-1:30: “Music for Hope and Inspiration” -  Tommy Strazza
END:VEVENT
END:VCALENDAR
