BEGIN:VCALENDAR
VERSION:2.0
PRODID:-//www.thearcofsomerset.org//NONSGML kigkonsult.se iCalcreator 2.30.
 10//
CALSCALE:GREGORIAN
METHOD:PUBLISH
UID:b6a94d9a-6650-487a-85da-b4981f2c25cb
X-WR-CALDESC:
X-WR-RELCALID:6df95c612d6632bc2fea31b1c4b9df43
X-WR-TIMEZONE:America/New_York
BEGIN:VTIMEZONE
TZID:America/New_York
BEGIN:STANDARD
TZNAME:EST
DTSTART:20201101T020000
TZOFFSETFROM:-0400
TZOFFSETTO:-0500
RDATE:20211107T020000
RDATE:20221106T020000
END:STANDARD
BEGIN:DAYLIGHT
TZNAME:EDT
DTSTART:20210314T020000
TZOFFSETFROM:-0500
TZOFFSETTO:-0400
RDATE:20220313T020000
END:DAYLIGHT
END:VTIMEZONE
BEGIN:VEVENT
UID:73db87f5-560b-414b-8901-90101a90c44a
DTSTAMP:20260425T223904Z
DESCRIPTION:
DTSTART;TZID=America/New_York:20210513T111500
DTEND;TZID=America/New_York:20210513T234500
LOCATION:
SUMMARY:11:15-11:45: Literacy class (Cambridge)-  everyone welcome!
END:VEVENT
END:VCALENDAR
