BEGIN:VCALENDAR
VERSION:2.0
PRODID:-//www.thearcofsomerset.org//NONSGML kigkonsult.se iCalcreator 2.30.
 10//
CALSCALE:GREGORIAN
METHOD:PUBLISH
UID:e228b2d7-31a6-4804-a8df-1248904b381e
X-WR-CALDESC:
X-WR-RELCALID:551992685b306da44d8a6f0b7cf936ff
X-WR-TIMEZONE:America/New_York
BEGIN:VTIMEZONE
TZID:America/New_York
BEGIN:STANDARD
TZNAME:EST
DTSTART:20201101T020000
TZOFFSETFROM:-0400
TZOFFSETTO:-0500
RDATE:20211107T020000
RDATE:20221106T020000
END:STANDARD
BEGIN:DAYLIGHT
TZNAME:EDT
DTSTART:20210314T020000
TZOFFSETFROM:-0500
TZOFFSETTO:-0400
RDATE:20220313T020000
END:DAYLIGHT
END:VTIMEZONE
BEGIN:VEVENT
UID:4528a9af-d0d9-488e-91f3-1d6bec91414b
DTSTAMP:20260425T223919Z
DESCRIPTION:
DTSTART;TZID=America/New_York:20210513T150000
DTEND;TZID=America/New_York:20210513T153000
LOCATION:
SUMMARY:3:00-3:30 “Hot TopiX” – Live virtual Basketball Game
END:VEVENT
END:VCALENDAR
