BEGIN:VCALENDAR
VERSION:2.0
PRODID:-//www.thearcofsomerset.org//NONSGML kigkonsult.se iCalcreator 2.30.
 10//
CALSCALE:GREGORIAN
METHOD:PUBLISH
UID:3a05befa-79b7-4252-a8b1-274629cac36b
X-WR-CALDESC:
X-WR-RELCALID:9424affe54186bce3974d9a01dafb824
X-WR-TIMEZONE:America/New_York
BEGIN:VTIMEZONE
TZID:America/New_York
BEGIN:STANDARD
TZNAME:EST
DTSTART:20201101T020000
TZOFFSETFROM:-0400
TZOFFSETTO:-0500
RDATE:20211107T020000
RDATE:20221106T020000
END:STANDARD
BEGIN:DAYLIGHT
TZNAME:EDT
DTSTART:20210314T020000
TZOFFSETFROM:-0500
TZOFFSETTO:-0400
RDATE:20220313T020000
END:DAYLIGHT
END:VTIMEZONE
BEGIN:VEVENT
UID:2a49b3ab-7578-400a-ac22-b1b533ad91ab
DTSTAMP:20260425T223736Z
DESCRIPTION:
DTSTART;TZID=America/New_York:20210514T130000
DTEND;TZID=America/New_York:20210514T133000
LOCATION:
SUMMARY:1:00-1:30pm: Literacy class (Commons 1) -  everyone welcome!
END:VEVENT
END:VCALENDAR
