BEGIN:VCALENDAR
VERSION:2.0
PRODID:-//www.thearcofsomerset.org//NONSGML kigkonsult.se iCalcreator 2.30.
 10//
CALSCALE:GREGORIAN
METHOD:PUBLISH
UID:59594c2a-9242-4fbf-b204-ef2cd99c6058
X-WR-CALDESC:
X-WR-RELCALID:1b03a1f7dd758271419d25611c951b29
X-WR-TIMEZONE:America/New_York
BEGIN:VTIMEZONE
TZID:America/New_York
BEGIN:STANDARD
TZNAME:EST
DTSTART:20201101T020000
TZOFFSETFROM:-0400
TZOFFSETTO:-0500
RDATE:20211107T020000
RDATE:20221106T020000
END:STANDARD
BEGIN:DAYLIGHT
TZNAME:EDT
DTSTART:20210314T020000
TZOFFSETFROM:-0500
TZOFFSETTO:-0400
RDATE:20220313T020000
END:DAYLIGHT
END:VTIMEZONE
BEGIN:VEVENT
UID:39f92b2c-1a34-47a7-b6a5-cc373f23f1b6
DTSTAMP:20260425T222832Z
DESCRIPTION:
DTSTART;TZID=America/New_York:20210517T140000
DTEND;TZID=America/New_York:20210517T143000
LOCATION:
SUMMARY:Art with Tonya
END:VEVENT
END:VCALENDAR
