BEGIN:VCALENDAR
VERSION:2.0
PRODID:-//www.thearcofsomerset.org//NONSGML kigkonsult.se iCalcreator 2.30.
 10//
CALSCALE:GREGORIAN
METHOD:PUBLISH
UID:df3c93b4-0196-42a5-800f-e0557deebbb0
X-WR-CALDESC:
X-WR-RELCALID:d5667502cede25f18e0a734b1623ecd3
X-WR-TIMEZONE:America/New_York
BEGIN:VTIMEZONE
TZID:America/New_York
BEGIN:STANDARD
TZNAME:EST
DTSTART:20201101T020000
TZOFFSETFROM:-0400
TZOFFSETTO:-0500
RDATE:20211107T020000
RDATE:20221106T020000
END:STANDARD
BEGIN:DAYLIGHT
TZNAME:EDT
DTSTART:20210314T020000
TZOFFSETFROM:-0500
TZOFFSETTO:-0400
RDATE:20220313T020000
END:DAYLIGHT
END:VTIMEZONE
BEGIN:VEVENT
UID:c0725f07-174e-4d28-9348-0bcae60eefcb
DTSTAMP:20260425T223244Z
DESCRIPTION:
DTSTART;TZID=America/New_York:20210518T153000
DTEND;TZID=America/New_York:20210518T160000
LOCATION:
SUMMARY:“Hot TopiX” – Virtual Disney Trip
END:VEVENT
END:VCALENDAR
