BEGIN:VCALENDAR
VERSION:2.0
PRODID:-//www.thearcofsomerset.org//NONSGML kigkonsult.se iCalcreator 2.30.
 10//
CALSCALE:GREGORIAN
METHOD:PUBLISH
UID:0b08866a-61e2-4b8e-b230-f2f8a8ac43d9
X-WR-CALDESC:
X-WR-RELCALID:bce7c5c88aa6375ef8e176a002fb2aed
X-WR-TIMEZONE:America/New_York
BEGIN:VTIMEZONE
TZID:America/New_York
BEGIN:STANDARD
TZNAME:EST
DTSTART:20201101T020000
TZOFFSETFROM:-0400
TZOFFSETTO:-0500
RDATE:20211107T020000
RDATE:20221106T020000
END:STANDARD
BEGIN:DAYLIGHT
TZNAME:EDT
DTSTART:20210314T020000
TZOFFSETFROM:-0500
TZOFFSETTO:-0400
RDATE:20220313T020000
END:DAYLIGHT
END:VTIMEZONE
BEGIN:VEVENT
UID:44c6f8af-81e8-437d-a8a4-580e9ca6cede
DTSTAMP:20260425T224245Z
DESCRIPTION:
DTSTART;TZID=America/New_York:20210518T130000
DTEND;TZID=America/New_York:20210518T133000
LOCATION:
SUMMARY:“Music for Hope and Inspiration”  Guest Musician:  Coffeehouse Proj
 ect
END:VEVENT
END:VCALENDAR
