BEGIN:VCALENDAR
VERSION:2.0
PRODID:-//www.thearcofsomerset.org//NONSGML kigkonsult.se iCalcreator 2.30.
 10//
CALSCALE:GREGORIAN
METHOD:PUBLISH
UID:f5da3989-dcb1-4c74-8fc4-bde65c6a0354
X-WR-CALDESC:
X-WR-RELCALID:19182689193b7528083239d19b24b681
X-WR-TIMEZONE:America/New_York
BEGIN:VTIMEZONE
TZID:America/New_York
BEGIN:STANDARD
TZNAME:EST
DTSTART:20201101T020000
TZOFFSETFROM:-0400
TZOFFSETTO:-0500
RDATE:20211107T020000
RDATE:20221106T020000
END:STANDARD
BEGIN:DAYLIGHT
TZNAME:EDT
DTSTART:20210314T020000
TZOFFSETFROM:-0500
TZOFFSETTO:-0400
RDATE:20220313T020000
END:DAYLIGHT
END:VTIMEZONE
BEGIN:VEVENT
UID:89a8185f-7529-496e-bfab-898c650a9893
DTSTAMP:20260425T223737Z
DESCRIPTION:
DTSTART;TZID=America/New_York:20210518T130000
DTEND;TZID=America/New_York:20210518T133000
LOCATION:
SUMMARY:Literacy class (RHGH)  everyone welcome!
END:VEVENT
END:VCALENDAR
