BEGIN:VCALENDAR
VERSION:2.0
PRODID:-//www.thearcofsomerset.org//NONSGML kigkonsult.se iCalcreator 2.30.
 10//
CALSCALE:GREGORIAN
METHOD:PUBLISH
UID:765d264d-79fc-45fe-ac8d-d16b4d6037ba
X-WR-CALDESC:
X-WR-RELCALID:3235bd10f2b6295bf877a9fc23b65360
X-WR-TIMEZONE:America/New_York
BEGIN:VTIMEZONE
TZID:America/New_York
BEGIN:STANDARD
TZNAME:EST
DTSTART:20201101T020000
TZOFFSETFROM:-0400
TZOFFSETTO:-0500
RDATE:20211107T020000
RDATE:20221106T020000
END:STANDARD
BEGIN:DAYLIGHT
TZNAME:EDT
DTSTART:20210314T020000
TZOFFSETFROM:-0500
TZOFFSETTO:-0400
RDATE:20220313T020000
END:DAYLIGHT
END:VTIMEZONE
BEGIN:VEVENT
UID:9d84cdeb-41e2-43e0-912c-79426da69635
DTSTAMP:20260425T224005Z
DESCRIPTION:
DTSTART;TZID=America/New_York:20210519T093000
DTEND;TZID=America/New_York:20210519T100000
LOCATION:
SUMMARY:Let’s Talk Sports with Jason and Josh
END:VEVENT
END:VCALENDAR
