BEGIN:VCALENDAR
VERSION:2.0
PRODID:-//www.thearcofsomerset.org//NONSGML kigkonsult.se iCalcreator 2.30.
 10//
CALSCALE:GREGORIAN
METHOD:PUBLISH
UID:81d476b9-3387-410d-b7e5-7b749a379ea5
X-WR-CALDESC:
X-WR-RELCALID:33d29b0a0e558cbe0ce680abe46fc5c3
X-WR-TIMEZONE:America/New_York
BEGIN:VTIMEZONE
TZID:America/New_York
BEGIN:STANDARD
TZNAME:EST
DTSTART:20201101T020000
TZOFFSETFROM:-0400
TZOFFSETTO:-0500
RDATE:20211107T020000
RDATE:20221106T020000
END:STANDARD
BEGIN:DAYLIGHT
TZNAME:EDT
DTSTART:20210314T020000
TZOFFSETFROM:-0500
TZOFFSETTO:-0400
RDATE:20220313T020000
END:DAYLIGHT
END:VTIMEZONE
BEGIN:VEVENT
UID:cf59c667-35db-49d3-b379-7aea0d4144db
DTSTAMP:20260425T223245Z
DESCRIPTION:
DTSTART;TZID=America/New_York:20210519T111500
DTEND;TZID=America/New_York:20210519T114500
LOCATION:
SUMMARY:SGH Literacy class – all welcome!
END:VEVENT
END:VCALENDAR
