BEGIN:VCALENDAR
VERSION:2.0
PRODID:-//www.thearcofsomerset.org//NONSGML kigkonsult.se iCalcreator 2.30.
 10//
CALSCALE:GREGORIAN
METHOD:PUBLISH
UID:95d34ed0-f6ac-4c74-b7b4-ec934872b86f
X-WR-CALDESC:
X-WR-RELCALID:f8d8127de32f30b2aa1f34216dbf8b5f
X-WR-TIMEZONE:America/New_York
BEGIN:VTIMEZONE
TZID:America/New_York
BEGIN:STANDARD
TZNAME:EST
DTSTART:20201101T020000
TZOFFSETFROM:-0400
TZOFFSETTO:-0500
RDATE:20211107T020000
RDATE:20221106T020000
END:STANDARD
BEGIN:DAYLIGHT
TZNAME:EDT
DTSTART:20210314T020000
TZOFFSETFROM:-0500
TZOFFSETTO:-0400
RDATE:20220313T020000
END:DAYLIGHT
END:VTIMEZONE
BEGIN:VEVENT
UID:6a50e636-aa80-45f7-916c-89ca5769a5ef
DTSTAMP:20260425T223016Z
DESCRIPTION:
DTSTART;TZID=America/New_York:20210520T100000
DTEND;TZID=America/New_York:20210520T103000
LOCATION:
SUMMARY:Literacy class (Ardsley) –  everyone welcome!
END:VEVENT
END:VCALENDAR
