BEGIN:VCALENDAR
VERSION:2.0
PRODID:-//www.thearcofsomerset.org//NONSGML kigkonsult.se iCalcreator 2.30.
 10//
CALSCALE:GREGORIAN
METHOD:PUBLISH
UID:47530921-5981-479f-b7dd-4e5fb30863ca
X-WR-CALDESC:
X-WR-RELCALID:9576440f460560cf8e80057e4bf97da8
X-WR-TIMEZONE:America/New_York
BEGIN:VTIMEZONE
TZID:America/New_York
BEGIN:STANDARD
TZNAME:EST
DTSTART:20201101T020000
TZOFFSETFROM:-0400
TZOFFSETTO:-0500
RDATE:20211107T020000
RDATE:20221106T020000
END:STANDARD
BEGIN:DAYLIGHT
TZNAME:EDT
DTSTART:20210314T020000
TZOFFSETFROM:-0500
TZOFFSETTO:-0400
RDATE:20220313T020000
END:DAYLIGHT
END:VTIMEZONE
BEGIN:VEVENT
UID:d67c6910-7dd7-4632-88be-de3d0d0885f1
DTSTAMP:20260425T223736Z
DESCRIPTION:
DTSTART;TZID=America/New_York:20210521T150000
DTEND;TZID=America/New_York:20210521T160000
LOCATION:
SUMMARY:Advocacy General Meeting
END:VEVENT
END:VCALENDAR
