BEGIN:VCALENDAR
VERSION:2.0
PRODID:-//www.thearcofsomerset.org//NONSGML kigkonsult.se iCalcreator 2.30.
 10//
CALSCALE:GREGORIAN
METHOD:PUBLISH
UID:3c0084de-f9cb-4e6d-a9b7-b1a354466dd6
X-WR-CALDESC:
X-WR-RELCALID:d6043db20130bed653140a554ca8729e
X-WR-TIMEZONE:America/New_York
BEGIN:VTIMEZONE
TZID:America/New_York
BEGIN:STANDARD
TZNAME:EST
DTSTART:20201101T020000
TZOFFSETFROM:-0400
TZOFFSETTO:-0500
RDATE:20211107T020000
RDATE:20221106T020000
END:STANDARD
BEGIN:DAYLIGHT
TZNAME:EDT
DTSTART:20210314T020000
TZOFFSETFROM:-0500
TZOFFSETTO:-0400
RDATE:20220313T020000
END:DAYLIGHT
END:VTIMEZONE
BEGIN:VEVENT
UID:e60cb842-7103-43f6-bebd-efe807a6d7ba
DTSTAMP:20260425T223117Z
DESCRIPTION:
DTSTART;TZID=America/New_York:20210521T140000
DTEND;TZID=America/New_York:20210521T143000
LOCATION:
SUMMARY:Literacy class (Claremont) –  everyone welcome!
END:VEVENT
END:VCALENDAR
