BEGIN:VCALENDAR
VERSION:2.0
PRODID:-//www.thearcofsomerset.org//NONSGML kigkonsult.se iCalcreator 2.30.
 10//
CALSCALE:GREGORIAN
METHOD:PUBLISH
UID:0473d1ef-1ccd-4baa-a76d-a4e1da7b25c9
X-WR-CALDESC:
X-WR-RELCALID:cf9a092e95354e75a8c4758efb8f9439
X-WR-TIMEZONE:America/New_York
BEGIN:VTIMEZONE
TZID:America/New_York
BEGIN:STANDARD
TZNAME:EST
DTSTART:20201101T020000
TZOFFSETFROM:-0400
TZOFFSETTO:-0500
RDATE:20211107T020000
RDATE:20221106T020000
END:STANDARD
BEGIN:DAYLIGHT
TZNAME:EDT
DTSTART:20210314T020000
TZOFFSETFROM:-0500
TZOFFSETTO:-0400
RDATE:20220313T020000
END:DAYLIGHT
END:VTIMEZONE
BEGIN:VEVENT
UID:d4e42da9-d855-4f49-aa28-3f274da37dca
DTSTAMP:20260425T223821Z
DESCRIPTION:
DTSTART;TZID=America/New_York:20210524T150000
DTEND;TZID=America/New_York:20210524T153000
LOCATION:
SUMMARY:“MedTalks” with Rutgers Medical Students – topic TBD
END:VEVENT
END:VCALENDAR
