BEGIN:VCALENDAR
VERSION:2.0
PRODID:-//www.thearcofsomerset.org//NONSGML kigkonsult.se iCalcreator 2.30.
 10//
CALSCALE:GREGORIAN
METHOD:PUBLISH
UID:d94ab225-ff53-4908-8594-899be54c300c
X-WR-CALDESC:
X-WR-RELCALID:bb50eb48855d45a8001a64b7b8fbf145
X-WR-TIMEZONE:America/New_York
BEGIN:VTIMEZONE
TZID:America/New_York
BEGIN:STANDARD
TZNAME:EST
DTSTART:20201101T020000
TZOFFSETFROM:-0400
TZOFFSETTO:-0500
RDATE:20211107T020000
RDATE:20221106T020000
END:STANDARD
BEGIN:DAYLIGHT
TZNAME:EDT
DTSTART:20210314T020000
TZOFFSETFROM:-0500
TZOFFSETTO:-0400
RDATE:20220313T020000
END:DAYLIGHT
END:VTIMEZONE
BEGIN:VEVENT
UID:171bd61a-d5ee-497b-bebe-62b7081d5688
DTSTAMP:20260425T222340Z
DESCRIPTION:
DTSTART;TZID=America/New_York:20210524T140000
DTEND;TZID=America/New_York:20210524T143000
LOCATION:
SUMMARY:Art with Alec
END:VEVENT
END:VCALENDAR
