BEGIN:VCALENDAR
VERSION:2.0
PRODID:-//www.thearcofsomerset.org//NONSGML kigkonsult.se iCalcreator 2.30.
 10//
CALSCALE:GREGORIAN
METHOD:PUBLISH
UID:0e2c7f56-6bd6-4379-8f8a-686684580040
X-WR-CALDESC:
X-WR-RELCALID:43ea0bbe7695d9c2af55a7e5f14e7d26
X-WR-TIMEZONE:America/New_York
BEGIN:VTIMEZONE
TZID:America/New_York
BEGIN:STANDARD
TZNAME:EST
DTSTART:20201101T020000
TZOFFSETFROM:-0400
TZOFFSETTO:-0500
RDATE:20211107T020000
RDATE:20221106T020000
END:STANDARD
BEGIN:DAYLIGHT
TZNAME:EDT
DTSTART:20210314T020000
TZOFFSETFROM:-0500
TZOFFSETTO:-0400
RDATE:20220313T020000
END:DAYLIGHT
END:VTIMEZONE
BEGIN:VEVENT
UID:7bebfbdc-887d-4ba1-b279-996e06f1141a
DTSTAMP:20260425T224256Z
DESCRIPTION:
DTSTART;TZID=America/New_York:20210524T130000
DTEND;TZID=America/New_York:20210524T133000
LOCATION:
SUMMARY:Royal School of Yoga
END:VEVENT
END:VCALENDAR
