BEGIN:VCALENDAR
VERSION:2.0
PRODID:-//www.thearcofsomerset.org//NONSGML kigkonsult.se iCalcreator 2.30.
 10//
CALSCALE:GREGORIAN
METHOD:PUBLISH
UID:b30b5712-8729-43de-9b37-ca2e58733cf0
X-WR-CALDESC:
X-WR-RELCALID:64d97a89a4975c6103c1b77df7c33e25
X-WR-TIMEZONE:America/New_York
BEGIN:VTIMEZONE
TZID:America/New_York
BEGIN:STANDARD
TZNAME:EST
DTSTART:20201101T020000
TZOFFSETFROM:-0400
TZOFFSETTO:-0500
RDATE:20211107T020000
RDATE:20221106T020000
END:STANDARD
BEGIN:DAYLIGHT
TZNAME:EDT
DTSTART:20210314T020000
TZOFFSETFROM:-0500
TZOFFSETTO:-0400
RDATE:20220313T020000
END:DAYLIGHT
END:VTIMEZONE
BEGIN:VEVENT
UID:2ba607eb-dac3-466a-998d-1a35ce0d7e44
DTSTAMP:20260425T224148Z
DESCRIPTION:
DTSTART;TZID=America/New_York:20210525T153000
DTEND;TZID=America/New_York:20210525T160000
LOCATION:
SUMMARY:“Hot TopiX” – Let’s Salute the Veterans!
END:VEVENT
END:VCALENDAR
