BEGIN:VCALENDAR
VERSION:2.0
PRODID:-//www.thearcofsomerset.org//NONSGML kigkonsult.se iCalcreator 2.30.
 10//
CALSCALE:GREGORIAN
METHOD:PUBLISH
UID:ea798d45-d517-46a0-af71-d7b0537c2741
X-WR-CALDESC:
X-WR-RELCALID:51af9b806eaac069b15816b44158948c
X-WR-TIMEZONE:America/New_York
BEGIN:VTIMEZONE
TZID:America/New_York
BEGIN:STANDARD
TZNAME:EST
DTSTART:20201101T020000
TZOFFSETFROM:-0400
TZOFFSETTO:-0500
RDATE:20211107T020000
RDATE:20221106T020000
END:STANDARD
BEGIN:DAYLIGHT
TZNAME:EDT
DTSTART:20210314T020000
TZOFFSETFROM:-0500
TZOFFSETTO:-0400
RDATE:20220313T020000
END:DAYLIGHT
END:VTIMEZONE
BEGIN:VEVENT
UID:56dfdc05-3d6f-41fc-879b-6b161a30e7bb
DTSTAMP:20260425T224400Z
DESCRIPTION:
DTSTART;TZID=America/New_York:20210525T130000
DTEND;TZID=America/New_York:20210525T133000
LOCATION:
SUMMARY:“Music for Hope and Inspiration”  Guest Musician: Vinnie and his ma
 ny musical instruments!
END:VEVENT
END:VCALENDAR
