BEGIN:VCALENDAR
VERSION:2.0
PRODID:-//www.thearcofsomerset.org//NONSGML kigkonsult.se iCalcreator 2.30.
 10//
CALSCALE:GREGORIAN
METHOD:PUBLISH
UID:6117e773-af89-4e72-9db2-adc598f0b0ff
X-WR-CALDESC:
X-WR-RELCALID:86a526e53daf812d8def203f003d16e3
X-WR-TIMEZONE:America/New_York
BEGIN:VTIMEZONE
TZID:America/New_York
BEGIN:STANDARD
TZNAME:EST
DTSTART:20201101T020000
TZOFFSETFROM:-0400
TZOFFSETTO:-0500
RDATE:20211107T020000
RDATE:20221106T020000
END:STANDARD
BEGIN:DAYLIGHT
TZNAME:EDT
DTSTART:20210314T020000
TZOFFSETFROM:-0500
TZOFFSETTO:-0400
RDATE:20220313T020000
END:DAYLIGHT
END:VTIMEZONE
BEGIN:VEVENT
UID:ea49456b-4b6e-4d3c-bba6-eaca316fa8ec
DTSTAMP:20260425T223920Z
DESCRIPTION:
DTSTART;TZID=America/New_York:20210527T150000
DTEND;TZID=America/New_York:20210527T153000
LOCATION:
SUMMARY:“Hot TopiX” – Memorial Day Surprise!
END:VEVENT
END:VCALENDAR
