BEGIN:VCALENDAR
VERSION:2.0
PRODID:-//www.thearcofsomerset.org//NONSGML kigkonsult.se iCalcreator 2.30.
 10//
CALSCALE:GREGORIAN
METHOD:PUBLISH
UID:2caa5309-0dc8-466c-b7f5-020f2dc3f66d
X-WR-CALDESC:
X-WR-RELCALID:5b9cb0babca51c8ddfead3c155e775b8
X-WR-TIMEZONE:America/New_York
BEGIN:VTIMEZONE
TZID:America/New_York
BEGIN:STANDARD
TZNAME:EST
DTSTART:20201101T020000
TZOFFSETFROM:-0400
TZOFFSETTO:-0500
RDATE:20211107T020000
RDATE:20221106T020000
END:STANDARD
BEGIN:DAYLIGHT
TZNAME:EDT
DTSTART:20210314T020000
TZOFFSETFROM:-0500
TZOFFSETTO:-0400
RDATE:20220313T020000
END:DAYLIGHT
END:VTIMEZONE
BEGIN:VEVENT
UID:70cb7fd1-5e4a-4e92-993d-07c653ea31cc
DTSTAMP:20260425T224245Z
DESCRIPTION:
DTSTART;TZID=America/New_York:20210527T130000
DTEND;TZID=America/New_York:20210527T133000
LOCATION:
SUMMARY:“Music for Hope and Inspiration” -                       Louie with
  Batman and Batman Trivia
END:VEVENT
END:VCALENDAR
