BEGIN:VCALENDAR
VERSION:2.0
PRODID:-//www.thearcofsomerset.org//NONSGML kigkonsult.se iCalcreator 2.30.
 10//
CALSCALE:GREGORIAN
METHOD:PUBLISH
UID:299a9d64-fa7b-4f9c-8390-d7fa6034c63a
X-WR-CALDESC:
X-WR-RELCALID:30e04b0e4b47de90e8dcaab5ead7fc4f
X-WR-TIMEZONE:America/New_York
BEGIN:VTIMEZONE
TZID:America/New_York
BEGIN:STANDARD
TZNAME:EST
DTSTART:20201101T020000
TZOFFSETFROM:-0400
TZOFFSETTO:-0500
RDATE:20211107T020000
RDATE:20221106T020000
END:STANDARD
BEGIN:DAYLIGHT
TZNAME:EDT
DTSTART:20210314T020000
TZOFFSETFROM:-0500
TZOFFSETTO:-0400
RDATE:20220313T020000
END:DAYLIGHT
END:VTIMEZONE
BEGIN:VEVENT
UID:b853cd5d-6382-4248-83a2-420e4424511a
DTSTAMP:20260425T204816Z
DESCRIPTION:
DTSTART;TZID=America/New_York:20210601T140000
DTEND;TZID=America/New_York:20210601T143000
LOCATION:
SUMMARY:Literacy class  – all welcome!
END:VEVENT
END:VCALENDAR
