BEGIN:VCALENDAR
VERSION:2.0
PRODID:-//www.thearcofsomerset.org//NONSGML kigkonsult.se iCalcreator 2.30.
 10//
CALSCALE:GREGORIAN
METHOD:PUBLISH
UID:a26f1a58-4531-4a38-9839-1011f925bd1a
X-WR-CALDESC:
X-WR-RELCALID:e8ea8fc6e91828446b10a28fcf7ee4e0
X-WR-TIMEZONE:America/New_York
BEGIN:VTIMEZONE
TZID:America/New_York
BEGIN:STANDARD
TZNAME:EST
DTSTART:20201101T020000
TZOFFSETFROM:-0400
TZOFFSETTO:-0500
RDATE:20211107T020000
RDATE:20221106T020000
END:STANDARD
BEGIN:DAYLIGHT
TZNAME:EDT
DTSTART:20210314T020000
TZOFFSETFROM:-0500
TZOFFSETTO:-0400
RDATE:20220313T020000
END:DAYLIGHT
END:VTIMEZONE
BEGIN:VEVENT
UID:afe75dfc-9e8d-44ab-bf89-10b3f8bfa3f0
DTSTAMP:20260425T204824Z
DESCRIPTION:
DTSTART;TZID=America/New_York:20210601T103000
DTEND;TZID=America/New_York:20210601T110000
LOCATION:
SUMMARY:Literacy class everyone welcome!
END:VEVENT
END:VCALENDAR
