BEGIN:VCALENDAR
VERSION:2.0
PRODID:-//www.thearcofsomerset.org//NONSGML kigkonsult.se iCalcreator 2.30.
 10//
CALSCALE:GREGORIAN
METHOD:PUBLISH
UID:f35f3aa7-1162-4a03-bb57-86d267132e77
X-WR-CALDESC:
X-WR-RELCALID:2a79c613acf51b3c24dbbcc0faeb6717
X-WR-TIMEZONE:America/New_York
BEGIN:VTIMEZONE
TZID:America/New_York
BEGIN:STANDARD
TZNAME:EST
DTSTART:20201101T020000
TZOFFSETFROM:-0400
TZOFFSETTO:-0500
RDATE:20211107T020000
RDATE:20221106T020000
END:STANDARD
BEGIN:DAYLIGHT
TZNAME:EDT
DTSTART:20210314T020000
TZOFFSETFROM:-0500
TZOFFSETTO:-0400
RDATE:20220313T020000
END:DAYLIGHT
END:VTIMEZONE
BEGIN:VEVENT
UID:7f375f4a-382d-497f-8973-dbc5d4bba617
DTSTAMP:20260425T204818Z
DESCRIPTION:
DTSTART;TZID=America/New_York:20210603T100000
DTEND;TZID=America/New_York:20210603T103000
LOCATION:
SUMMARY:Literacy class – all welcome!
END:VEVENT
END:VCALENDAR
