BEGIN:VCALENDAR
VERSION:2.0
PRODID:-//www.thearcofsomerset.org//NONSGML kigkonsult.se iCalcreator 2.30.
 10//
CALSCALE:GREGORIAN
METHOD:PUBLISH
UID:7b40da10-d3bd-47bc-bd77-529607841564
X-WR-CALDESC:
X-WR-RELCALID:4414037b421c6525bb3aa9328676034e
X-WR-TIMEZONE:America/New_York
BEGIN:VTIMEZONE
TZID:America/New_York
BEGIN:STANDARD
TZNAME:EST
DTSTART:20201101T020000
TZOFFSETFROM:-0400
TZOFFSETTO:-0500
RDATE:20211107T020000
RDATE:20221106T020000
END:STANDARD
BEGIN:DAYLIGHT
TZNAME:EDT
DTSTART:20210314T020000
TZOFFSETFROM:-0500
TZOFFSETTO:-0400
RDATE:20220313T020000
END:DAYLIGHT
END:VTIMEZONE
BEGIN:VEVENT
UID:5dc19fcf-7fd3-4327-86b5-c8895ac941ad
DTSTAMP:20260425T204654Z
DESCRIPTION:
DTSTART;TZID=America/New_York:20210603T111500
DTEND;TZID=America/New_York:20210603T114500
LOCATION:
SUMMARY:Literacy class - all welcome!
END:VEVENT
END:VCALENDAR
