BEGIN:VCALENDAR
VERSION:2.0
PRODID:-//www.thearcofsomerset.org//NONSGML kigkonsult.se iCalcreator 2.30.
 10//
CALSCALE:GREGORIAN
METHOD:PUBLISH
UID:55d126b1-6451-4bc5-bd96-e09d01119b52
X-WR-CALDESC:
X-WR-RELCALID:265823dd4ddd5336ac7319755b3b2ee4
X-WR-TIMEZONE:America/New_York
BEGIN:VTIMEZONE
TZID:America/New_York
BEGIN:STANDARD
TZNAME:EST
DTSTART:20201101T020000
TZOFFSETFROM:-0400
TZOFFSETTO:-0500
RDATE:20211107T020000
RDATE:20221106T020000
END:STANDARD
BEGIN:DAYLIGHT
TZNAME:EDT
DTSTART:20210314T020000
TZOFFSETFROM:-0500
TZOFFSETTO:-0400
RDATE:20220313T020000
END:DAYLIGHT
END:VTIMEZONE
BEGIN:VEVENT
UID:9ca51334-fc8c-4767-b63f-fc8376c3c550
DTSTAMP:20260425T205023Z
DESCRIPTION:
DTSTART;TZID=America/New_York:20210607T130000
DTEND;TZID=America/New_York:20210607T133000
LOCATION:
SUMMARY:Yoga with Jane – LIVE and virtual
END:VEVENT
END:VCALENDAR
