BEGIN:VCALENDAR
VERSION:2.0
PRODID:-//www.thearcofsomerset.org//NONSGML kigkonsult.se iCalcreator 2.30.
 10//
CALSCALE:GREGORIAN
METHOD:PUBLISH
UID:87da04bd-a84d-41fd-ad66-8881175270fc
X-WR-CALDESC:
X-WR-RELCALID:2589b485f110562bea2e8ee97b27e417
X-WR-TIMEZONE:America/New_York
BEGIN:VTIMEZONE
TZID:America/New_York
BEGIN:STANDARD
TZNAME:EST
DTSTART:20201101T020000
TZOFFSETFROM:-0400
TZOFFSETTO:-0500
RDATE:20211107T020000
RDATE:20221106T020000
END:STANDARD
BEGIN:DAYLIGHT
TZNAME:EDT
DTSTART:20210314T020000
TZOFFSETFROM:-0500
TZOFFSETTO:-0400
RDATE:20220313T020000
END:DAYLIGHT
END:VTIMEZONE
BEGIN:VEVENT
UID:414a4772-36f4-493c-af50-550965c5c5a3
DTSTAMP:20260425T205250Z
DESCRIPTION:
DTSTART;TZID=America/New_York:20210608T130000
DTEND;TZID=America/New_York:20210608T133000
LOCATION:
SUMMARY:“Music for Hope and Inspiration” -                      outside at 
 JCATC and virtual Justin Brown
END:VEVENT
END:VCALENDAR
