BEGIN:VCALENDAR
VERSION:2.0
PRODID:-//www.thearcofsomerset.org//NONSGML kigkonsult.se iCalcreator 2.30.
 10//
CALSCALE:GREGORIAN
METHOD:PUBLISH
UID:14a41d0d-34e8-4099-8b63-db8b4ce94d0d
X-WR-CALDESC:
X-WR-RELCALID:f410ca7852e44cd3553d3756e9443e68
X-WR-TIMEZONE:America/New_York
BEGIN:VTIMEZONE
TZID:America/New_York
BEGIN:STANDARD
TZNAME:EST
DTSTART:20201101T020000
TZOFFSETFROM:-0400
TZOFFSETTO:-0500
RDATE:20211107T020000
RDATE:20221106T020000
END:STANDARD
BEGIN:DAYLIGHT
TZNAME:EDT
DTSTART:20210314T020000
TZOFFSETFROM:-0500
TZOFFSETTO:-0400
RDATE:20220313T020000
END:DAYLIGHT
END:VTIMEZONE
BEGIN:VEVENT
UID:4913ca65-efd2-4a2f-a7ab-c6893d66fc04
DTSTAMP:20260425T204933Z
DESCRIPTION:
DTSTART;TZID=America/New_York:20210610T100000
DTEND;TZID=America/New_York:20210610T103000
LOCATION:
SUMMARY:Literacy class – all welcome!
END:VEVENT
END:VCALENDAR
