BEGIN:VCALENDAR
VERSION:2.0
PRODID:-//www.thearcofsomerset.org//NONSGML kigkonsult.se iCalcreator 2.30.
 10//
CALSCALE:GREGORIAN
METHOD:PUBLISH
UID:fbf08a6b-4cc3-40ba-9d80-9c63002c819a
X-WR-CALDESC:
X-WR-RELCALID:bfb499ca43796e3191bda22d456f0246
X-WR-TIMEZONE:America/New_York
BEGIN:VTIMEZONE
TZID:America/New_York
BEGIN:STANDARD
TZNAME:EST
DTSTART:20201101T020000
TZOFFSETFROM:-0400
TZOFFSETTO:-0500
RDATE:20211107T020000
RDATE:20221106T020000
END:STANDARD
BEGIN:DAYLIGHT
TZNAME:EDT
DTSTART:20210314T020000
TZOFFSETFROM:-0500
TZOFFSETTO:-0400
RDATE:20220313T020000
END:DAYLIGHT
END:VTIMEZONE
BEGIN:VEVENT
UID:009ec59a-75e4-49fc-8325-2013dd004f76
DTSTAMP:20260425T204653Z
DESCRIPTION:
DTSTART;TZID=America/New_York:20210614T140000
DTEND;TZID=America/New_York:20210614T143000
LOCATION:
SUMMARY:Art with Alec
END:VEVENT
END:VCALENDAR
