BEGIN:VCALENDAR
VERSION:2.0
PRODID:-//www.thearcofsomerset.org//NONSGML kigkonsult.se iCalcreator 2.30.
 10//
CALSCALE:GREGORIAN
METHOD:PUBLISH
UID:ef1d3c19-7373-445a-ab3a-d787dbc5fe87
X-WR-CALDESC:
X-WR-RELCALID:b4f4b0ae89e9843dafff5a02f9e686c5
X-WR-TIMEZONE:America/New_York
BEGIN:VTIMEZONE
TZID:America/New_York
BEGIN:STANDARD
TZNAME:EST
DTSTART:20201101T020000
TZOFFSETFROM:-0400
TZOFFSETTO:-0500
RDATE:20211107T020000
RDATE:20221106T020000
END:STANDARD
BEGIN:DAYLIGHT
TZNAME:EDT
DTSTART:20210314T020000
TZOFFSETFROM:-0500
TZOFFSETTO:-0400
RDATE:20220313T020000
END:DAYLIGHT
END:VTIMEZONE
BEGIN:VEVENT
UID:0d0b5515-67dd-4066-9864-d05dca008d76
DTSTAMP:20260425T205344Z
DESCRIPTION:
DTSTART;TZID=America/New_York:20210614T130000
DTEND;TZID=America/New_York:20210614T133000
LOCATION:
SUMMARY:Yoga with Jane – LIVE and virtual
END:VEVENT
END:VCALENDAR
