BEGIN:VCALENDAR
VERSION:2.0
PRODID:-//www.thearcofsomerset.org//NONSGML kigkonsult.se iCalcreator 2.30.
 10//
CALSCALE:GREGORIAN
METHOD:PUBLISH
UID:1517297b-a3bc-4fbd-8cdd-0d4ff29b6d4f
X-WR-CALDESC:
X-WR-RELCALID:db1f2b1c22be22d56d6ab44383ffe184
X-WR-TIMEZONE:America/New_York
BEGIN:VTIMEZONE
TZID:America/New_York
BEGIN:STANDARD
TZNAME:EST
DTSTART:20201101T020000
TZOFFSETFROM:-0400
TZOFFSETTO:-0500
RDATE:20211107T020000
RDATE:20221106T020000
END:STANDARD
BEGIN:DAYLIGHT
TZNAME:EDT
DTSTART:20210314T020000
TZOFFSETFROM:-0500
TZOFFSETTO:-0400
RDATE:20220313T020000
END:DAYLIGHT
END:VTIMEZONE
BEGIN:VEVENT
UID:d0f953f4-25e5-48d2-9a93-edf1566b074a
DTSTAMP:20260425T205108Z
DESCRIPTION:
DTSTART;TZID=America/New_York:20210615T153000
DTEND;TZID=America/New_York:20210615T160000
LOCATION:
SUMMARY:“Shooting the Breeze with Friends'
END:VEVENT
END:VCALENDAR
