BEGIN:VCALENDAR
VERSION:2.0
PRODID:-//www.thearcofsomerset.org//NONSGML kigkonsult.se iCalcreator 2.30.
 10//
CALSCALE:GREGORIAN
METHOD:PUBLISH
UID:ecc89c64-279c-4a5d-ab77-d527456cc0b5
X-WR-CALDESC:
X-WR-RELCALID:3793a15bfec32d4154fb2eee5eadfc1a
X-WR-TIMEZONE:America/New_York
BEGIN:VTIMEZONE
TZID:America/New_York
BEGIN:STANDARD
TZNAME:EST
DTSTART:20201101T020000
TZOFFSETFROM:-0400
TZOFFSETTO:-0500
RDATE:20211107T020000
RDATE:20221106T020000
END:STANDARD
BEGIN:DAYLIGHT
TZNAME:EDT
DTSTART:20210314T020000
TZOFFSETFROM:-0500
TZOFFSETTO:-0400
RDATE:20220313T020000
END:DAYLIGHT
END:VTIMEZONE
BEGIN:VEVENT
UID:3ca0317b-4cc9-4656-84e4-63b76b69662d
DTSTAMP:20260425T204830Z
DESCRIPTION:
DTSTART;TZID=America/New_York:20210615T111500
DTEND;TZID=America/New_York:20210615T234500
LOCATION:
SUMMARY:Literacy class - all welcome!
END:VEVENT
END:VCALENDAR
