BEGIN:VCALENDAR
VERSION:2.0
PRODID:-//www.thearcofsomerset.org//NONSGML kigkonsult.se iCalcreator 2.30.
 10//
CALSCALE:GREGORIAN
METHOD:PUBLISH
UID:ccc17dbf-cd32-493e-9cdd-0e3c6413fbe1
X-WR-CALDESC:
X-WR-RELCALID:5b6658cf4a1836b99c8678598bdebf02
X-WR-TIMEZONE:America/New_York
BEGIN:VTIMEZONE
TZID:America/New_York
BEGIN:STANDARD
TZNAME:EST
DTSTART:20201101T020000
TZOFFSETFROM:-0400
TZOFFSETTO:-0500
RDATE:20211107T020000
RDATE:20221106T020000
END:STANDARD
BEGIN:DAYLIGHT
TZNAME:EDT
DTSTART:20210314T020000
TZOFFSETFROM:-0500
TZOFFSETTO:-0400
RDATE:20220313T020000
END:DAYLIGHT
END:VTIMEZONE
BEGIN:VEVENT
UID:c6f42bec-b586-4587-a843-59123b9c3bae
DTSTAMP:20260425T205251Z
DESCRIPTION:
DTSTART;TZID=America/New_York:20210617T130000
DTEND;TZID=America/New_York:20210617T133000
LOCATION:
SUMMARY:“Music for Hope and Inspiration” -                      outside at 
 JCATC and virtual -TBD
END:VEVENT
END:VCALENDAR
