BEGIN:VCALENDAR
VERSION:2.0
PRODID:-//www.thearcofsomerset.org//NONSGML kigkonsult.se iCalcreator 2.30.
 10//
CALSCALE:GREGORIAN
METHOD:PUBLISH
UID:cc1dc71b-599c-46f0-8d9b-aa323b0681e6
X-WR-CALDESC:
X-WR-RELCALID:ec96e6559e809a641cf6c83137db1127
X-WR-TIMEZONE:America/New_York
BEGIN:VTIMEZONE
TZID:America/New_York
BEGIN:STANDARD
TZNAME:EST
DTSTART:20201101T020000
TZOFFSETFROM:-0400
TZOFFSETTO:-0500
RDATE:20211107T020000
RDATE:20221106T020000
END:STANDARD
BEGIN:DAYLIGHT
TZNAME:EDT
DTSTART:20210314T020000
TZOFFSETFROM:-0500
TZOFFSETTO:-0400
RDATE:20220313T020000
END:DAYLIGHT
END:VTIMEZONE
BEGIN:VEVENT
UID:bfa88782-40d1-4682-9ee2-9ebdf1a2fbd1
DTSTAMP:20260425T204719Z
DESCRIPTION:
DTSTART;TZID=America/New_York:20210617T100000
DTEND;TZID=America/New_York:20210617T103000
LOCATION:
SUMMARY:Literacy class –  all welcome!
END:VEVENT
END:VCALENDAR
