BEGIN:VCALENDAR
VERSION:2.0
PRODID:-//www.thearcofsomerset.org//NONSGML kigkonsult.se iCalcreator 2.30.
 10//
CALSCALE:GREGORIAN
METHOD:PUBLISH
UID:a0ac176d-2247-4a5b-95fd-5dc9210c5f69
X-WR-CALDESC:
X-WR-RELCALID:8c7ec855dc333d5f1d63fc417cbc51e6
X-WR-TIMEZONE:America/New_York
BEGIN:VTIMEZONE
TZID:America/New_York
BEGIN:STANDARD
TZNAME:EST
DTSTART:20201101T020000
TZOFFSETFROM:-0400
TZOFFSETTO:-0500
RDATE:20211107T020000
RDATE:20221106T020000
END:STANDARD
BEGIN:DAYLIGHT
TZNAME:EDT
DTSTART:20210314T020000
TZOFFSETFROM:-0500
TZOFFSETTO:-0400
RDATE:20220313T020000
END:DAYLIGHT
END:VTIMEZONE
BEGIN:VEVENT
UID:a2e6e8d8-44cf-430d-b1c3-8805b9459b88
DTSTAMP:20260425T204652Z
DESCRIPTION:
DTSTART;TZID=America/New_York:20210617T111500
DTEND;TZID=America/New_York:20210617T114500
LOCATION:
SUMMARY:Literacy class –  all welcome!
END:VEVENT
END:VCALENDAR
