BEGIN:VCALENDAR
VERSION:2.0
PRODID:-//www.thearcofsomerset.org//NONSGML kigkonsult.se iCalcreator 2.30.
 10//
CALSCALE:GREGORIAN
METHOD:PUBLISH
UID:de21c3cb-8745-4d1e-80e7-4f623182a9d2
X-WR-CALDESC:
X-WR-RELCALID:2a1e973e67c7f932b1e5c9fe2c444f1e
X-WR-TIMEZONE:America/New_York
BEGIN:VTIMEZONE
TZID:America/New_York
BEGIN:STANDARD
TZNAME:EST
DTSTART:20201101T020000
TZOFFSETFROM:-0400
TZOFFSETTO:-0500
RDATE:20211107T020000
RDATE:20221106T020000
END:STANDARD
BEGIN:DAYLIGHT
TZNAME:EDT
DTSTART:20210314T020000
TZOFFSETFROM:-0500
TZOFFSETTO:-0400
RDATE:20220313T020000
END:DAYLIGHT
END:VTIMEZONE
BEGIN:VEVENT
UID:3d8ae75b-a1c5-4951-a375-cc9cf611c193
DTSTAMP:20260425T205342Z
DESCRIPTION:
DTSTART;TZID=America/New_York:20210618T150000
DTEND;TZID=America/New_York:20210618T160000
LOCATION:
SUMMARY:Advocacy General Meeting
END:VEVENT
END:VCALENDAR
