BEGIN:VCALENDAR
VERSION:2.0
PRODID:-//www.thearcofsomerset.org//NONSGML kigkonsult.se iCalcreator 2.30.
 10//
CALSCALE:GREGORIAN
METHOD:PUBLISH
UID:7febcaf7-d154-4ad3-8372-178903d648ca
X-WR-CALDESC:
X-WR-RELCALID:3191d78448aa24b40e87c5329fc305de
X-WR-TIMEZONE:America/New_York
BEGIN:VTIMEZONE
TZID:America/New_York
BEGIN:STANDARD
TZNAME:EST
DTSTART:20201101T020000
TZOFFSETFROM:-0400
TZOFFSETTO:-0500
RDATE:20211107T020000
RDATE:20221106T020000
END:STANDARD
BEGIN:DAYLIGHT
TZNAME:EDT
DTSTART:20210314T020000
TZOFFSETFROM:-0500
TZOFFSETTO:-0400
RDATE:20220313T020000
END:DAYLIGHT
END:VTIMEZONE
BEGIN:VEVENT
UID:a5c6f583-e0c0-41a1-87a2-92cc5acf3c6a
DTSTAMP:20260425T204622Z
DESCRIPTION:
DTSTART;TZID=America/New_York:20210621T140000
DTEND;TZID=America/New_York:20210621T143000
LOCATION:
SUMMARY:Art with Tonya
END:VEVENT
END:VCALENDAR
