BEGIN:VCALENDAR
VERSION:2.0
PRODID:-//www.thearcofsomerset.org//NONSGML kigkonsult.se iCalcreator 2.30.
 10//
CALSCALE:GREGORIAN
METHOD:PUBLISH
UID:f3da13ea-8f14-43cc-b5b7-901b6aeb4ba6
X-WR-CALDESC:
X-WR-RELCALID:579f089cf7021022f2f90f85668f0b39
X-WR-TIMEZONE:America/New_York
BEGIN:VTIMEZONE
TZID:America/New_York
BEGIN:STANDARD
TZNAME:EST
DTSTART:20201101T020000
TZOFFSETFROM:-0400
TZOFFSETTO:-0500
RDATE:20211107T020000
RDATE:20221106T020000
END:STANDARD
BEGIN:DAYLIGHT
TZNAME:EDT
DTSTART:20210314T020000
TZOFFSETFROM:-0500
TZOFFSETTO:-0400
RDATE:20220313T020000
END:DAYLIGHT
END:VTIMEZONE
BEGIN:VEVENT
UID:843d6e26-0233-4f27-9c61-d615cd552569
DTSTAMP:20260425T204939Z
DESCRIPTION:
DTSTART;TZID=America/New_York:20210621T130000
DTEND;TZID=America/New_York:20210621T133000
LOCATION:
SUMMARY:Yoga with Jane – LIVE and virtual
END:VEVENT
END:VCALENDAR
