BEGIN:VCALENDAR
VERSION:2.0
PRODID:-//www.thearcofsomerset.org//NONSGML kigkonsult.se iCalcreator 2.30.
 10//
CALSCALE:GREGORIAN
METHOD:PUBLISH
UID:a2de55c5-8d95-422c-85ee-3e11a4c250fa
X-WR-CALDESC:
X-WR-RELCALID:22fa08dc7c3f79574906e0793167e071
X-WR-TIMEZONE:America/New_York
BEGIN:VTIMEZONE
TZID:America/New_York
BEGIN:STANDARD
TZNAME:EST
DTSTART:20201101T020000
TZOFFSETFROM:-0400
TZOFFSETTO:-0500
RDATE:20211107T020000
RDATE:20221106T020000
END:STANDARD
BEGIN:DAYLIGHT
TZNAME:EDT
DTSTART:20210314T020000
TZOFFSETFROM:-0500
TZOFFSETTO:-0400
RDATE:20220313T020000
END:DAYLIGHT
END:VTIMEZONE
BEGIN:VEVENT
UID:e104b00c-7450-4e97-bb3f-d4e3ae0bc5ed
DTSTAMP:20260425T205251Z
DESCRIPTION:
DTSTART;TZID=America/New_York:20210622T130000
DTEND;TZID=America/New_York:20210622T133000
LOCATION:
SUMMARY:“Music for Hope and Inspiration” -                      outside at 
 JCATC and virtual - Coffeehouse Project
END:VEVENT
END:VCALENDAR
