BEGIN:VCALENDAR
VERSION:2.0
PRODID:-//www.thearcofsomerset.org//NONSGML kigkonsult.se iCalcreator 2.30.
 10//
CALSCALE:GREGORIAN
METHOD:PUBLISH
UID:e58270af-e118-490a-9bd3-c53a7178b02a
X-WR-CALDESC:
X-WR-RELCALID:5679bb6ea12cf2d4cd39e301d7475321
X-WR-TIMEZONE:America/New_York
BEGIN:VTIMEZONE
TZID:America/New_York
BEGIN:STANDARD
TZNAME:EST
DTSTART:20201101T020000
TZOFFSETFROM:-0400
TZOFFSETTO:-0500
RDATE:20211107T020000
RDATE:20221106T020000
END:STANDARD
BEGIN:DAYLIGHT
TZNAME:EDT
DTSTART:20210314T020000
TZOFFSETFROM:-0500
TZOFFSETTO:-0400
RDATE:20220313T020000
END:DAYLIGHT
END:VTIMEZONE
BEGIN:VEVENT
UID:8dbf95e1-278c-464d-83eb-5f1ef23946ec
DTSTAMP:20260425T205100Z
DESCRIPTION:
DTSTART;TZID=America/New_York:20210622T153000
DTEND;TZID=America/New_York:20210622T160000
LOCATION:
SUMMARY:“Shooting the Breeze with Friends”
END:VEVENT
END:VCALENDAR
