BEGIN:VCALENDAR
VERSION:2.0
PRODID:-//www.thearcofsomerset.org//NONSGML kigkonsult.se iCalcreator 2.30.
 10//
CALSCALE:GREGORIAN
METHOD:PUBLISH
UID:dcf2e6c4-ca20-492a-98b4-e63442d06e70
X-WR-CALDESC:
X-WR-RELCALID:ceda3b9d073910d9d0beed04a2a94bc2
X-WR-TIMEZONE:America/New_York
BEGIN:VTIMEZONE
TZID:America/New_York
BEGIN:STANDARD
TZNAME:EST
DTSTART:20201101T020000
TZOFFSETFROM:-0400
TZOFFSETTO:-0500
RDATE:20211107T020000
RDATE:20221106T020000
END:STANDARD
BEGIN:DAYLIGHT
TZNAME:EDT
DTSTART:20210314T020000
TZOFFSETFROM:-0500
TZOFFSETTO:-0400
RDATE:20220313T020000
END:DAYLIGHT
END:VTIMEZONE
BEGIN:VEVENT
UID:be0dceb2-fbf7-4177-abec-5da4419a3e21
DTSTAMP:20260425T204823Z
DESCRIPTION:
DTSTART;TZID=America/New_York:20210622T140000
DTEND;TZID=America/New_York:20210622T143000
LOCATION:
SUMMARY:Literacy class  –  all welcome!
END:VEVENT
END:VCALENDAR
