BEGIN:VCALENDAR
VERSION:2.0
PRODID:-//www.thearcofsomerset.org//NONSGML kigkonsult.se iCalcreator 2.30.
 10//
CALSCALE:GREGORIAN
METHOD:PUBLISH
UID:0903ade1-fddd-49dd-9d61-3e096d2f401b
X-WR-CALDESC:
X-WR-RELCALID:ae34a2a6fd4323d45a4a9acf29bba945
X-WR-TIMEZONE:America/New_York
BEGIN:VTIMEZONE
TZID:America/New_York
BEGIN:STANDARD
TZNAME:EST
DTSTART:20201101T020000
TZOFFSETFROM:-0400
TZOFFSETTO:-0500
RDATE:20211107T020000
RDATE:20221106T020000
END:STANDARD
BEGIN:DAYLIGHT
TZNAME:EDT
DTSTART:20210314T020000
TZOFFSETFROM:-0500
TZOFFSETTO:-0400
RDATE:20220313T020000
END:DAYLIGHT
END:VTIMEZONE
BEGIN:VEVENT
UID:952ccb2b-e255-4d1a-9322-eb5597ca8ccc
DTSTAMP:20260425T204829Z
DESCRIPTION:
DTSTART;TZID=America/New_York:20210624T100000
DTEND;TZID=America/New_York:20210624T103000
LOCATION:
SUMMARY:Literacy class  –  all welcome!
END:VEVENT
END:VCALENDAR
