BEGIN:VCALENDAR
VERSION:2.0
PRODID:-//www.thearcofsomerset.org//NONSGML kigkonsult.se iCalcreator 2.30.
 10//
CALSCALE:GREGORIAN
METHOD:PUBLISH
UID:ac9f8106-acf2-4059-a5a5-d77b3096152e
X-WR-CALDESC:
X-WR-RELCALID:a6df9df44f2af53ae63b374c3bdcd27a
X-WR-TIMEZONE:America/New_York
BEGIN:VTIMEZONE
TZID:America/New_York
BEGIN:STANDARD
TZNAME:EST
DTSTART:20201101T020000
TZOFFSETFROM:-0400
TZOFFSETTO:-0500
RDATE:20211107T020000
RDATE:20221106T020000
END:STANDARD
BEGIN:DAYLIGHT
TZNAME:EDT
DTSTART:20210314T020000
TZOFFSETFROM:-0500
TZOFFSETTO:-0400
RDATE:20220313T020000
END:DAYLIGHT
END:VTIMEZONE
BEGIN:VEVENT
UID:036fb09d-a19c-4c1c-b46d-5cfa23d04403
DTSTAMP:20260425T204816Z
DESCRIPTION:
DTSTART;TZID=America/New_York:20210624T111500
DTEND;TZID=America/New_York:20210624T114500
LOCATION:
SUMMARY:Literacy class  –  all welcome!
END:VEVENT
END:VCALENDAR
