BEGIN:VCALENDAR
VERSION:2.0
PRODID:-//www.thearcofsomerset.org//NONSGML kigkonsult.se iCalcreator 2.30.
 10//
CALSCALE:GREGORIAN
METHOD:PUBLISH
UID:dee9f40a-cd8d-46c4-ae74-2ac415282a2a
X-WR-CALDESC:
X-WR-RELCALID:2b846b3387f54d4e2f7e8ff48e25b07d
X-WR-TIMEZONE:America/New_York
BEGIN:VTIMEZONE
TZID:America/New_York
BEGIN:STANDARD
TZNAME:EST
DTSTART:20201101T020000
TZOFFSETFROM:-0400
TZOFFSETTO:-0500
RDATE:20211107T020000
RDATE:20221106T020000
END:STANDARD
BEGIN:DAYLIGHT
TZNAME:EDT
DTSTART:20210314T020000
TZOFFSETFROM:-0500
TZOFFSETTO:-0400
RDATE:20220313T020000
END:DAYLIGHT
END:VTIMEZONE
BEGIN:VEVENT
UID:6e238cf4-e89d-44a5-8e6d-ddb0a7aea3a8
DTSTAMP:20260425T205343Z
DESCRIPTION:
DTSTART;TZID=America/New_York:20210628T153000
DTEND;TZID=America/New_York:20210628T160000
LOCATION:
SUMMARY:“MedTalks” with Rutgers Medical Students- Topic TBD
END:VEVENT
END:VCALENDAR
