BEGIN:VCALENDAR
VERSION:2.0
PRODID:-//www.thearcofsomerset.org//NONSGML kigkonsult.se iCalcreator 2.30.
 10//
CALSCALE:GREGORIAN
METHOD:PUBLISH
UID:b336f293-edb4-436a-9350-078b8dd37f4a
X-WR-CALDESC:
X-WR-RELCALID:706cbd23e8b9de3fd56b55df7bba018f
X-WR-TIMEZONE:America/New_York
BEGIN:VTIMEZONE
TZID:America/New_York
BEGIN:STANDARD
TZNAME:EST
DTSTART:20201101T020000
TZOFFSETFROM:-0400
TZOFFSETTO:-0500
RDATE:20211107T020000
RDATE:20221106T020000
END:STANDARD
BEGIN:DAYLIGHT
TZNAME:EDT
DTSTART:20210314T020000
TZOFFSETFROM:-0500
TZOFFSETTO:-0400
RDATE:20220313T020000
END:DAYLIGHT
END:VTIMEZONE
BEGIN:VEVENT
UID:f708b9bb-9c47-4474-9aa3-a5e1db55a148
DTSTAMP:20260425T204639Z
DESCRIPTION:
DTSTART;TZID=America/New_York:20210628T140000
DTEND;TZID=America/New_York:20210628T143000
LOCATION:
SUMMARY:Art with Tonya
END:VEVENT
END:VCALENDAR
