BEGIN:VCALENDAR
VERSION:2.0
PRODID:-//www.thearcofsomerset.org//NONSGML kigkonsult.se iCalcreator 2.30.
 10//
CALSCALE:GREGORIAN
METHOD:PUBLISH
UID:c39b7f5f-bb63-49bf-aa65-89544ce5c185
X-WR-CALDESC:
X-WR-RELCALID:c6902ab5e2bc606f297f2f93dbc4d42f
X-WR-TIMEZONE:America/New_York
BEGIN:VTIMEZONE
TZID:America/New_York
BEGIN:STANDARD
TZNAME:EST
DTSTART:20201101T020000
TZOFFSETFROM:-0400
TZOFFSETTO:-0500
RDATE:20211107T020000
RDATE:20221106T020000
END:STANDARD
BEGIN:DAYLIGHT
TZNAME:EDT
DTSTART:20210314T020000
TZOFFSETFROM:-0500
TZOFFSETTO:-0400
RDATE:20220313T020000
END:DAYLIGHT
END:VTIMEZONE
BEGIN:VEVENT
UID:49eae8d9-903d-47b8-a485-6342c3deb383
DTSTAMP:20260425T205021Z
DESCRIPTION:
DTSTART;TZID=America/New_York:20210628T130000
DTEND;TZID=America/New_York:20210628T133000
LOCATION:
SUMMARY:Yoga with Jane – LIVE and virtual
END:VEVENT
END:VCALENDAR
