BEGIN:VCALENDAR
VERSION:2.0
PRODID:-//www.thearcofsomerset.org//NONSGML kigkonsult.se iCalcreator 2.30.
 10//
CALSCALE:GREGORIAN
METHOD:PUBLISH
UID:fb33c1f7-000c-460b-9a2a-261ac3cf786b
X-WR-CALDESC:
X-WR-RELCALID:91973b017731a97b66a5dbddc5f455ae
X-WR-TIMEZONE:America/New_York
BEGIN:VTIMEZONE
TZID:America/New_York
BEGIN:STANDARD
TZNAME:EST
DTSTART:20201101T020000
TZOFFSETFROM:-0400
TZOFFSETTO:-0500
RDATE:20211107T020000
RDATE:20221106T020000
END:STANDARD
BEGIN:DAYLIGHT
TZNAME:EDT
DTSTART:20210314T020000
TZOFFSETFROM:-0500
TZOFFSETTO:-0400
RDATE:20220313T020000
END:DAYLIGHT
END:VTIMEZONE
BEGIN:VEVENT
UID:e13b0cd0-e9fc-433f-b5c7-eb44f2cbfd08
DTSTAMP:20260425T204718Z
DESCRIPTION:
DTSTART;TZID=America/New_York:20210629T140000
DTEND;TZID=America/New_York:20210629T143000
LOCATION:
SUMMARY:Literacy class –  all welcome!
END:VEVENT
END:VCALENDAR
